BEGIN:VCALENDAR
PRODID:-//climbIT//Tourenangebot//DE
VERSION:2.0
METHOD:PUBLISH
BEGIN:VEVENT
UID:tour-d75f5d09-941e-4445-8ee9-8179cb7288c0@touren.sac-baldern.ch
DTSTAMP:20260420T105025
SEQUENCE:0
CLASS:PUBLIC
TRANSP:OPAQUE
DTSTART;VALUE=DATE:20221119
DTEND;VALUE=DATE:20221120
SUMMARY:Sektion Baldern: Bouldern
DESCRIPTION:Nach deiner Anmeldung und bei jeder Statusänderung wird ein Kalendereintrag per E-Mail verschickt.\n\nAktuelle Informationen\nTourenlink: https://touren.sac-baldern.ch/tours/view/d75f5d09-941e-4445-8ee9-8179cb7288c0\n\n\nDein Tourenangebot Team
END:VEVENT
END:VCALENDAR