BEGIN:VCALENDAR
PRODID:-//climbIT//Tourenangebot//DE
VERSION:2.0
METHOD:PUBLISH
BEGIN:VEVENT
UID:tour-58a4e8af-d0f6-41d5-afdc-3a8152f8ffa3@touren.sac-baldern.ch
DTSTAMP:20260423T020056
SEQUENCE:0
CLASS:PUBLIC
TRANSP:OPAQUE
DTSTART;VALUE=DATE:20221119
DTEND;VALUE=DATE:20221120
SUMMARY:Sektion Baldern: Kulturtag Schwyz
DESCRIPTION:Nach deiner Anmeldung und bei jeder Statusänderung wird ein Kalendereintrag per E-Mail verschickt.\n\nAktuelle Informationen\nTourenlink: https://touren.sac-baldern.ch/tours/view/58a4e8af-d0f6-41d5-afdc-3a8152f8ffa3\n\n\nDein Tourenangebot Team
END:VEVENT
END:VCALENDAR